BEGIN:VCALENDAR
VERSION:2.0
PRODID:-//NapiTalmud.hu - ECPv5.16.4//NONSGML v1.0//EN
CALSCALE:GREGORIAN
METHOD:PUBLISH
X-WR-CALNAME:NapiTalmud.hu
X-ORIGINAL-URL:https://napitalmud.hu
X-WR-CALDESC:Events for NapiTalmud.hu
BEGIN:VTIMEZONE
TZID:Europe/Budapest
BEGIN:DAYLIGHT
TZOFFSETFROM:+0100
TZOFFSETTO:+0200
TZNAME:CEST
DTSTART:20270328T010000
END:DAYLIGHT
BEGIN:STANDARD
TZOFFSETFROM:+0200
TZOFFSETTO:+0100
TZNAME:CET
DTSTART:20271031T010000
END:STANDARD
END:VTIMEZONE
BEGIN:VEVENT
DTSTART;VALUE=DATE:20270607
DTEND;VALUE=DATE:20270608
DTSTAMP:20260424T121523
CREATED:20200106T224450Z
LAST-MODIFIED:20200117T200840Z
UID:10847-1812326400-1812412799@napitalmud.hu
SUMMARY:Nidá 73
DESCRIPTION:
URL:https://napitalmud.hu/esemeny/nidah-73/
CATEGORIES:Nidá
ATTACH;FMTTYPE=image/jpeg:https://napitalmud.hu/files/daf/nidah_73a.jpg
END:VEVENT
BEGIN:VEVENT
DTSTART;VALUE=DATE:20270606
DTEND;VALUE=DATE:20270607
DTSTAMP:20260424T121523
CREATED:20200106T224449Z
LAST-MODIFIED:20200106T224450Z
UID:10843-1812240000-1812326399@napitalmud.hu
SUMMARY:Nidá 72
DESCRIPTION:
URL:https://napitalmud.hu/esemeny/nidah-72/
CATEGORIES:Nidá
ATTACH;FMTTYPE=image/jpeg:https://napitalmud.hu/files/daf/nidah_72a.jpg
END:VEVENT
BEGIN:VEVENT
DTSTART;VALUE=DATE:20270605
DTEND;VALUE=DATE:20270606
DTSTAMP:20260424T121523
CREATED:20200106T224448Z
LAST-MODIFIED:20200106T224449Z
UID:10839-1812153600-1812239999@napitalmud.hu
SUMMARY:Nidá 71
DESCRIPTION:
URL:https://napitalmud.hu/esemeny/nidah-71/
CATEGORIES:Nidá
ATTACH;FMTTYPE=image/jpeg:https://napitalmud.hu/files/daf/nidah_71a.jpg
END:VEVENT
BEGIN:VEVENT
DTSTART;VALUE=DATE:20270604
DTEND;VALUE=DATE:20270605
DTSTAMP:20260424T121523
CREATED:20200106T224448Z
LAST-MODIFIED:20200106T224448Z
UID:10835-1812067200-1812153599@napitalmud.hu
SUMMARY:Nidá 70
DESCRIPTION:
URL:https://napitalmud.hu/esemeny/nidah-70/
CATEGORIES:Nidá
ATTACH;FMTTYPE=image/jpeg:https://napitalmud.hu/files/daf/nidah_70a.jpg
END:VEVENT
BEGIN:VEVENT
DTSTART;VALUE=DATE:20270603
DTEND;VALUE=DATE:20270604
DTSTAMP:20260424T121523
CREATED:20200106T224447Z
LAST-MODIFIED:20200106T224448Z
UID:10831-1811980800-1812067199@napitalmud.hu
SUMMARY:Nidá 69
DESCRIPTION:
URL:https://napitalmud.hu/esemeny/nidah-69/
CATEGORIES:Nidá
ATTACH;FMTTYPE=image/jpeg:https://napitalmud.hu/files/daf/nidah_69a.jpg
END:VEVENT
BEGIN:VEVENT
DTSTART;VALUE=DATE:20270602
DTEND;VALUE=DATE:20270603
DTSTAMP:20260424T121523
CREATED:20200106T224446Z
LAST-MODIFIED:20200106T224447Z
UID:10827-1811894400-1811980799@napitalmud.hu
SUMMARY:Nidá 68
DESCRIPTION:
URL:https://napitalmud.hu/esemeny/nidah-68/
CATEGORIES:Nidá
ATTACH;FMTTYPE=image/jpeg:https://napitalmud.hu/files/daf/nidah_68a.jpg
END:VEVENT
BEGIN:VEVENT
DTSTART;VALUE=DATE:20270601
DTEND;VALUE=DATE:20270602
DTSTAMP:20260424T121523
CREATED:20200106T224445Z
LAST-MODIFIED:20200106T224446Z
UID:10823-1811808000-1811894399@napitalmud.hu
SUMMARY:Nidá 67
DESCRIPTION:
URL:https://napitalmud.hu/esemeny/nidah-67/
CATEGORIES:Nidá
ATTACH;FMTTYPE=image/jpeg:https://napitalmud.hu/files/daf/nidah_67a.jpg
END:VEVENT
BEGIN:VEVENT
DTSTART;VALUE=DATE:20270531
DTEND;VALUE=DATE:20270601
DTSTAMP:20260424T121523
CREATED:20200106T224445Z
LAST-MODIFIED:20200106T224445Z
UID:10819-1811721600-1811807999@napitalmud.hu
SUMMARY:Nidá 66
DESCRIPTION:
URL:https://napitalmud.hu/esemeny/nidah-66/
CATEGORIES:Nidá
ATTACH;FMTTYPE=image/jpeg:https://napitalmud.hu/files/daf/nidah_66a.jpg
END:VEVENT
BEGIN:VEVENT
DTSTART;VALUE=DATE:20270530
DTEND;VALUE=DATE:20270531
DTSTAMP:20260424T121523
CREATED:20200106T224444Z
LAST-MODIFIED:20200106T224445Z
UID:10815-1811635200-1811721599@napitalmud.hu
SUMMARY:Nidá 65
DESCRIPTION:
URL:https://napitalmud.hu/esemeny/nidah-65/
CATEGORIES:Nidá
ATTACH;FMTTYPE=image/jpeg:https://napitalmud.hu/files/daf/nidah_65a.jpg
END:VEVENT
BEGIN:VEVENT
DTSTART;VALUE=DATE:20270529
DTEND;VALUE=DATE:20270530
DTSTAMP:20260424T121523
CREATED:20200106T224443Z
LAST-MODIFIED:20200106T224444Z
UID:10811-1811548800-1811635199@napitalmud.hu
SUMMARY:Nidá 64
DESCRIPTION:
URL:https://napitalmud.hu/esemeny/nidah-64/
CATEGORIES:Nidá
ATTACH;FMTTYPE=image/jpeg:https://napitalmud.hu/files/daf/nidah_64a.jpg
END:VEVENT
BEGIN:VEVENT
DTSTART;VALUE=DATE:20270528
DTEND;VALUE=DATE:20270529
DTSTAMP:20260424T121523
CREATED:20200106T224443Z
LAST-MODIFIED:20200106T224443Z
UID:10807-1811462400-1811548799@napitalmud.hu
SUMMARY:Nidá 63
DESCRIPTION:
URL:https://napitalmud.hu/esemeny/nidah-63/
CATEGORIES:Nidá
ATTACH;FMTTYPE=image/jpeg:https://napitalmud.hu/files/daf/nidah_63a.jpg
END:VEVENT
BEGIN:VEVENT
DTSTART;VALUE=DATE:20270527
DTEND;VALUE=DATE:20270528
DTSTAMP:20260424T121523
CREATED:20200106T224442Z
LAST-MODIFIED:20200106T224443Z
UID:10803-1811376000-1811462399@napitalmud.hu
SUMMARY:Nidá 62
DESCRIPTION:
URL:https://napitalmud.hu/esemeny/nidah-62/
CATEGORIES:Nidá
ATTACH;FMTTYPE=image/jpeg:https://napitalmud.hu/files/daf/nidah_62a.jpg
END:VEVENT
BEGIN:VEVENT
DTSTART;VALUE=DATE:20270526
DTEND;VALUE=DATE:20270527
DTSTAMP:20260424T121523
CREATED:20200106T224442Z
LAST-MODIFIED:20200106T224442Z
UID:10799-1811289600-1811375999@napitalmud.hu
SUMMARY:Nidá 61
DESCRIPTION:
URL:https://napitalmud.hu/esemeny/nidah-61/
CATEGORIES:Nidá
ATTACH;FMTTYPE=image/jpeg:https://napitalmud.hu/files/daf/nidah_61a.jpg
END:VEVENT
BEGIN:VEVENT
DTSTART;VALUE=DATE:20270525
DTEND;VALUE=DATE:20270526
DTSTAMP:20260424T121523
CREATED:20200106T224441Z
LAST-MODIFIED:20200106T224442Z
UID:10795-1811203200-1811289599@napitalmud.hu
SUMMARY:Nidá 60
DESCRIPTION:
URL:https://napitalmud.hu/esemeny/nidah-60/
CATEGORIES:Nidá
ATTACH;FMTTYPE=image/jpeg:https://napitalmud.hu/files/daf/nidah_60a.jpg
END:VEVENT
BEGIN:VEVENT
DTSTART;VALUE=DATE:20270524
DTEND;VALUE=DATE:20270525
DTSTAMP:20260424T121523
CREATED:20200106T224440Z
LAST-MODIFIED:20200106T224441Z
UID:10791-1811116800-1811203199@napitalmud.hu
SUMMARY:Nidá 59
DESCRIPTION:
URL:https://napitalmud.hu/esemeny/nidah-59/
CATEGORIES:Nidá
ATTACH;FMTTYPE=image/jpeg:https://napitalmud.hu/files/daf/nidah_59a.jpg
END:VEVENT
BEGIN:VEVENT
DTSTART;VALUE=DATE:20270523
DTEND;VALUE=DATE:20270524
DTSTAMP:20260424T121523
CREATED:20200106T224440Z
LAST-MODIFIED:20200106T224440Z
UID:10787-1811030400-1811116799@napitalmud.hu
SUMMARY:Nidá 58
DESCRIPTION:
URL:https://napitalmud.hu/esemeny/nidah-58/
CATEGORIES:Nidá
ATTACH;FMTTYPE=image/jpeg:https://napitalmud.hu/files/daf/nidah_58a.jpg
END:VEVENT
BEGIN:VEVENT
DTSTART;VALUE=DATE:20270522
DTEND;VALUE=DATE:20270523
DTSTAMP:20260424T121523
CREATED:20200106T224439Z
LAST-MODIFIED:20200106T224440Z
UID:10783-1810944000-1811030399@napitalmud.hu
SUMMARY:Nidá 57
DESCRIPTION:
URL:https://napitalmud.hu/esemeny/nidah-57/
CATEGORIES:Nidá
ATTACH;FMTTYPE=image/jpeg:https://napitalmud.hu/files/daf/nidah_57a.jpg
END:VEVENT
BEGIN:VEVENT
DTSTART;VALUE=DATE:20270521
DTEND;VALUE=DATE:20270522
DTSTAMP:20260424T121523
CREATED:20200106T224439Z
LAST-MODIFIED:20200106T224439Z
UID:10779-1810857600-1810943999@napitalmud.hu
SUMMARY:Nidá 56
DESCRIPTION:
URL:https://napitalmud.hu/esemeny/nidah-56/
CATEGORIES:Nidá
ATTACH;FMTTYPE=image/jpeg:https://napitalmud.hu/files/daf/nidah_56a.jpg
END:VEVENT
BEGIN:VEVENT
DTSTART;VALUE=DATE:20270520
DTEND;VALUE=DATE:20270521
DTSTAMP:20260424T121523
CREATED:20200106T224438Z
LAST-MODIFIED:20200106T224438Z
UID:10775-1810771200-1810857599@napitalmud.hu
SUMMARY:Nidá 55
DESCRIPTION:
URL:https://napitalmud.hu/esemeny/nidah-55/
CATEGORIES:Nidá
ATTACH;FMTTYPE=image/jpeg:https://napitalmud.hu/files/daf/nidah_55a.jpg
END:VEVENT
BEGIN:VEVENT
DTSTART;VALUE=DATE:20270519
DTEND;VALUE=DATE:20270520
DTSTAMP:20260424T121523
CREATED:20200106T224437Z
LAST-MODIFIED:20200106T224438Z
UID:10771-1810684800-1810771199@napitalmud.hu
SUMMARY:Nidá 54
DESCRIPTION:
URL:https://napitalmud.hu/esemeny/nidah-54/
CATEGORIES:Nidá
ATTACH;FMTTYPE=image/jpeg:https://napitalmud.hu/files/daf/nidah_54a.jpg
END:VEVENT
BEGIN:VEVENT
DTSTART;VALUE=DATE:20270518
DTEND;VALUE=DATE:20270519
DTSTAMP:20260424T121523
CREATED:20200106T224437Z
LAST-MODIFIED:20200106T224437Z
UID:10767-1810598400-1810684799@napitalmud.hu
SUMMARY:Nidá 53
DESCRIPTION:
URL:https://napitalmud.hu/esemeny/nidah-53/
CATEGORIES:Nidá
ATTACH;FMTTYPE=image/jpeg:https://napitalmud.hu/files/daf/nidah_53a.jpg
END:VEVENT
BEGIN:VEVENT
DTSTART;VALUE=DATE:20270517
DTEND;VALUE=DATE:20270518
DTSTAMP:20260424T121523
CREATED:20200106T224436Z
LAST-MODIFIED:20200106T224437Z
UID:10763-1810512000-1810598399@napitalmud.hu
SUMMARY:Nidá 52
DESCRIPTION:
URL:https://napitalmud.hu/esemeny/nidah-52/
CATEGORIES:Nidá
ATTACH;FMTTYPE=image/jpeg:https://napitalmud.hu/files/daf/nidah_52a.jpg
END:VEVENT
BEGIN:VEVENT
DTSTART;VALUE=DATE:20270516
DTEND;VALUE=DATE:20270517
DTSTAMP:20260424T121523
CREATED:20200106T224435Z
LAST-MODIFIED:20200106T224436Z
UID:10759-1810425600-1810511999@napitalmud.hu
SUMMARY:Nidá 51
DESCRIPTION:
URL:https://napitalmud.hu/esemeny/nidah-51/
CATEGORIES:Nidá
ATTACH;FMTTYPE=image/jpeg:https://napitalmud.hu/files/daf/nidah_51a.jpg
END:VEVENT
BEGIN:VEVENT
DTSTART;VALUE=DATE:20270515
DTEND;VALUE=DATE:20270516
DTSTAMP:20260424T121523
CREATED:20200106T224435Z
LAST-MODIFIED:20200106T224435Z
UID:10755-1810339200-1810425599@napitalmud.hu
SUMMARY:Nidá 50
DESCRIPTION:
URL:https://napitalmud.hu/esemeny/nidah-50/
CATEGORIES:Nidá
ATTACH;FMTTYPE=image/jpeg:https://napitalmud.hu/files/daf/nidah_50a.jpg
END:VEVENT
BEGIN:VEVENT
DTSTART;VALUE=DATE:20270514
DTEND;VALUE=DATE:20270515
DTSTAMP:20260424T121523
CREATED:20200106T224434Z
LAST-MODIFIED:20200106T224435Z
UID:10751-1810252800-1810339199@napitalmud.hu
SUMMARY:Nidá 49
DESCRIPTION:
URL:https://napitalmud.hu/esemeny/nidah-49/
CATEGORIES:Nidá
ATTACH;FMTTYPE=image/jpeg:https://napitalmud.hu/files/daf/nidah_49a.jpg
END:VEVENT
BEGIN:VEVENT
DTSTART;VALUE=DATE:20270513
DTEND;VALUE=DATE:20270514
DTSTAMP:20260424T121523
CREATED:20200106T224433Z
LAST-MODIFIED:20200106T224434Z
UID:10747-1810166400-1810252799@napitalmud.hu
SUMMARY:Nidá 48
DESCRIPTION:
URL:https://napitalmud.hu/esemeny/nidah-48/
CATEGORIES:Nidá
ATTACH;FMTTYPE=image/jpeg:https://napitalmud.hu/files/daf/nidah_48a.jpg
END:VEVENT
BEGIN:VEVENT
DTSTART;VALUE=DATE:20270512
DTEND;VALUE=DATE:20270513
DTSTAMP:20260424T121523
CREATED:20200106T224432Z
LAST-MODIFIED:20200106T224433Z
UID:10743-1810080000-1810166399@napitalmud.hu
SUMMARY:Nidá 47
DESCRIPTION:
URL:https://napitalmud.hu/esemeny/nidah-47/
CATEGORIES:Nidá
ATTACH;FMTTYPE=image/jpeg:https://napitalmud.hu/files/daf/nidah_47a.jpg
END:VEVENT
BEGIN:VEVENT
DTSTART;VALUE=DATE:20270511
DTEND;VALUE=DATE:20270512
DTSTAMP:20260424T121523
CREATED:20200106T224432Z
LAST-MODIFIED:20200106T224432Z
UID:10739-1809993600-1810079999@napitalmud.hu
SUMMARY:Nidá 46
DESCRIPTION:
URL:https://napitalmud.hu/esemeny/nidah-46/
CATEGORIES:Nidá
ATTACH;FMTTYPE=image/jpeg:https://napitalmud.hu/files/daf/nidah_46a.jpg
END:VEVENT
BEGIN:VEVENT
DTSTART;VALUE=DATE:20270510
DTEND;VALUE=DATE:20270511
DTSTAMP:20260424T121523
CREATED:20200106T224431Z
LAST-MODIFIED:20200106T224432Z
UID:10735-1809907200-1809993599@napitalmud.hu
SUMMARY:Nidá 45
DESCRIPTION:
URL:https://napitalmud.hu/esemeny/nidah-45/
CATEGORIES:Nidá
ATTACH;FMTTYPE=image/jpeg:https://napitalmud.hu/files/daf/nidah_45a.jpg
END:VEVENT
BEGIN:VEVENT
DTSTART;VALUE=DATE:20270509
DTEND;VALUE=DATE:20270510
DTSTAMP:20260424T121523
CREATED:20200106T224431Z
LAST-MODIFIED:20200106T224431Z
UID:10731-1809820800-1809907199@napitalmud.hu
SUMMARY:Nidá 44
DESCRIPTION:
URL:https://napitalmud.hu/esemeny/nidah-44/
CATEGORIES:Nidá
ATTACH;FMTTYPE=image/jpeg:https://napitalmud.hu/files/daf/nidah_44a.jpg
END:VEVENT
END:VCALENDAR